BEGIN:VCALENDAR
VERSION:2.0
PRODID:-//Country Oaks Golf Club - ECPv6.15.18//NONSGML v1.0//EN
CALSCALE:GREGORIAN
METHOD:PUBLISH
X-WR-CALNAME:Country Oaks Golf Club
X-ORIGINAL-URL:https://www.countryoaksgolfclub.com
X-WR-CALDESC:Events for Country Oaks Golf Club
REFRESH-INTERVAL;VALUE=DURATION:PT1H
X-Robots-Tag:noindex
X-PUBLISHED-TTL:PT1H
BEGIN:VTIMEZONE
TZID:America/New_York
BEGIN:DAYLIGHT
TZOFFSETFROM:-0500
TZOFFSETTO:-0400
TZNAME:EDT
DTSTART:20240310T070000
END:DAYLIGHT
BEGIN:STANDARD
TZOFFSETFROM:-0400
TZOFFSETTO:-0500
TZNAME:EST
DTSTART:20241103T060000
END:STANDARD
BEGIN:DAYLIGHT
TZOFFSETFROM:-0500
TZOFFSETTO:-0400
TZNAME:EDT
DTSTART:20250309T070000
END:DAYLIGHT
BEGIN:STANDARD
TZOFFSETFROM:-0400
TZOFFSETTO:-0500
TZNAME:EST
DTSTART:20251102T060000
END:STANDARD
BEGIN:DAYLIGHT
TZOFFSETFROM:-0500
TZOFFSETTO:-0400
TZNAME:EDT
DTSTART:20260308T070000
END:DAYLIGHT
BEGIN:STANDARD
TZOFFSETFROM:-0400
TZOFFSETTO:-0500
TZNAME:EST
DTSTART:20261101T060000
END:STANDARD
BEGIN:DAYLIGHT
TZOFFSETFROM:-0500
TZOFFSETTO:-0400
TZNAME:EDT
DTSTART:20270314T070000
END:DAYLIGHT
BEGIN:STANDARD
TZOFFSETFROM:-0400
TZOFFSETTO:-0500
TZNAME:EST
DTSTART:20271107T060000
END:STANDARD
END:VTIMEZONE
BEGIN:VTIMEZONE
TZID:UTC
BEGIN:STANDARD
TZOFFSETFROM:+0000
TZOFFSETTO:+0000
TZNAME:UTC
DTSTART:20240101T000000
END:STANDARD
END:VTIMEZONE
BEGIN:VEVENT
DTSTART;TZID=America/New_York:20260501T091500
DTEND;TZID=America/New_York:20260501T091500
DTSTAMP:20260423T170328
CREATED:20260325T145827Z
LAST-MODIFIED:20260325T145827Z
UID:10000040-1777626900-1777626900@www.countryoaksgolfclub.com
SUMMARY:Glow Golf (4 Person) Scramble
DESCRIPTION:Glow Golf (4 Person) Scramble – \nFriday\, May 1st – 9:15pm
URL:https://www.countryoaksgolfclub.com/event/glow-golf-4-person-scramble/
END:VEVENT
BEGIN:VEVENT
DTSTART;TZID=America/New_York:20260425T080000
DTEND;TZID=America/New_York:20260425T080000
DTSTAMP:20260423T170328
CREATED:20251027T133726Z
LAST-MODIFIED:20251027T133726Z
UID:10000030-1777104000-1777104000@www.countryoaksgolfclub.com
SUMMARY:Odon VFW @ 8am
DESCRIPTION:
URL:https://www.countryoaksgolfclub.com/event/odon-vfw-8am/
END:VEVENT
BEGIN:VEVENT
DTSTART;VALUE=DATE:20260419
DTEND;VALUE=DATE:20260420
DTSTAMP:20260423T170328
CREATED:20260323T195650Z
LAST-MODIFIED:20260323T195650Z
UID:10000037-1776556800-1776643199@www.countryoaksgolfclub.com
SUMMARY:2026 COUNTRY OAKS MEN'S CLUB CHAMPIONSHIP: Bracket Draw
DESCRIPTION:
URL:https://www.countryoaksgolfclub.com/event/2026-country-oaks-mens-club-championship-bracket-draw/
END:VEVENT
BEGIN:VEVENT
DTSTART;TZID=America/New_York:20260418T090000
DTEND;TZID=America/New_York:20260418T090000
DTSTAMP:20260423T170328
CREATED:20260325T145730Z
LAST-MODIFIED:20260325T145730Z
UID:10000039-1776502800-1776502800@www.countryoaksgolfclub.com
SUMMARY:Glow Golf (2 Person) Par Three Scramble
DESCRIPTION:Glow Golf (2 Person) Par Three Scramble – \nSaturday\, April 18th – 9pm
URL:https://www.countryoaksgolfclub.com/event/glow-golf-2-person-par-three-scramble/
END:VEVENT
BEGIN:VEVENT
DTSTART;VALUE=DATE:20260418
DTEND;VALUE=DATE:20260419
DTSTAMP:20260423T170328
CREATED:20251023T215107Z
LAST-MODIFIED:20251023T190017Z
UID:10000002-1776470400-1776556799@www.countryoaksgolfclub.com
SUMMARY:Hatchet Invite
DESCRIPTION:
URL:https://www.countryoaksgolfclub.com/event/hatchet-invite/
END:VEVENT
BEGIN:VEVENT
DTSTART;VALUE=DATE:20260415
DTEND;VALUE=DATE:20260416
DTSTAMP:20260423T170328
CREATED:20260323T195531Z
LAST-MODIFIED:20260323T195531Z
UID:10000036-1776211200-1776297599@www.countryoaksgolfclub.com
SUMMARY:2026 COUNTRY OAKS MEN'S CLUB CHAMPIONSHIP: Registration Deadline
DESCRIPTION:
URL:https://www.countryoaksgolfclub.com/event/2026-country-oaks-mens-club-championship-registration-deadline/
END:VEVENT
BEGIN:VEVENT
DTSTART;VALUE=DATE:20260405
DTEND;VALUE=DATE:20260406
DTSTAMP:20260423T170328
CREATED:20251023T215048Z
LAST-MODIFIED:20251023T190024Z
UID:10000001-1775347200-1775433599@www.countryoaksgolfclub.com
SUMMARY:Happy Easter
DESCRIPTION:
URL:https://www.countryoaksgolfclub.com/event/happy-easter/
END:VEVENT
BEGIN:VEVENT
DTSTART;TZID=America/New_York:20260404T070000
DTEND;TZID=America/New_York:20260404T190000
DTSTAMP:20260423T170328
CREATED:20260210T231756Z
LAST-MODIFIED:20260210T231756Z
UID:10000034-1775286000-1775329200@www.countryoaksgolfclub.com
SUMMARY:IN/KY AM Tour (Tee Times)
DESCRIPTION:
URL:https://www.countryoaksgolfclub.com/event/in-ky-am-tour-tee-times/
END:VEVENT
BEGIN:VEVENT
DTSTART;TZID=America/New_York:20260328T130000
DTEND;TZID=America/New_York:20260328T170000
DTSTAMP:20260423T170328
CREATED:20260122T181518Z
LAST-MODIFIED:20260122T181518Z
UID:10000032-1774702800-1774717200@www.countryoaksgolfclub.com
SUMMARY:Under Armour Jr Tour
DESCRIPTION:(9 Holes Only)
URL:https://www.countryoaksgolfclub.com/event/under-armour-jr-tour/
END:VEVENT
BEGIN:VEVENT
DTSTART;VALUE=DATE:20251027
DTEND;VALUE=DATE:20251028
DTSTAMP:20260423T170328
CREATED:20251023T180734Z
LAST-MODIFIED:20251023T180734Z
UID:10000027-1761523200-1761609599@www.countryoaksgolfclub.com
SUMMARY:Tri-State Pro-Am
DESCRIPTION:
URL:https://www.countryoaksgolfclub.com/event/tri-state-pro-am/
END:VEVENT
BEGIN:VEVENT
DTSTART;TZID=America/New_York:20251026T130000
DTEND;TZID=America/New_York:20251026T130000
DTSTAMP:20260423T170328
CREATED:20251023T180628Z
LAST-MODIFIED:20251023T180628Z
UID:10000026-1761483600-1761483600@www.countryoaksgolfclub.com
SUMMARY:COGA Scramble
DESCRIPTION:
URL:https://www.countryoaksgolfclub.com/event/coga-scramble/
END:VEVENT
BEGIN:VEVENT
DTSTART;VALUE=DATE:20251025
DTEND;VALUE=DATE:20251026
DTSTAMP:20260423T170328
CREATED:20251023T180604Z
LAST-MODIFIED:20251023T180604Z
UID:10000025-1761350400-1761436799@www.countryoaksgolfclub.com
SUMMARY:FOP Scramble
DESCRIPTION:
URL:https://www.countryoaksgolfclub.com/event/fop-scramble/
END:VEVENT
BEGIN:VEVENT
DTSTART;VALUE=DATE:20250704
DTEND;VALUE=DATE:20250705
DTSTAMP:20260423T170328
CREATED:20251023T215714Z
LAST-MODIFIED:20251023T215714Z
UID:10000016-1751587200-1751673599@www.countryoaksgolfclub.com
SUMMARY:Happy 4th of July
DESCRIPTION:
URL:https://www.countryoaksgolfclub.com/event/happy-4th-of-july/
END:VEVENT
BEGIN:VEVENT
DTSTART;TZID=UTC:20250603T080000
DTEND;TZID=UTC:20250603T170000
DTSTAMP:20260423T170328
CREATED:20251023T215137Z
LAST-MODIFIED:20251023T215137Z
UID:10000003-1748937600-1748970000@www.countryoaksgolfclub.com
SUMMARY:Murphy Scramble (Closed All Day)
DESCRIPTION:
URL:https://www.countryoaksgolfclub.com/event/murphy-scramble-closed-all-day/
END:VEVENT
END:VCALENDAR